BEGIN:VCALENDAR
VERSION:2.0
PRODID:-//wp-events-plugin.com//7.2.3.1//EN
TZID:America/Denver
X-WR-TIMEZONE:America/Denver
BEGIN:VEVENT
UID:363@krystal93.com
DTSTART;TZID=America/Denver:20221211T150000
DTEND;TZID=America/Denver:20221211T190000
DTSTAMP:20221130T032347Z
URL:https://krystal93.com/events/motherlode-holiday-markets-2/
SUMMARY:Motherlode Holiday Markets
DESCRIPTION:What: Motherlode Holiday Markets \n\nWhen: Dec 4\, 11 &amp\; 1
 8 (Sundays thru Christmas) \n\nWhere: Freight Leadville (320 E 9th St) \
 n\nDetails: \n\nTake the whole family for an afternoon of fun from 3-7pm 
 at the Freight Motherlode Holiday Markets! Amazing local artists\, food ve
 ndors\, and even photos with Santa! Enjoy live local music and have a drin
 k at the bar. Support local artists and check everyone off your holiday sh
 opping list in one place at the Freight in Leadville!  
END:VEVENT
BEGIN:VTIMEZONE
TZID:America/Denver
X-LIC-LOCATION:America/Denver
BEGIN:STANDARD
DTSTART:20221106T010000
TZOFFSETFROM:-0600
TZOFFSETTO:-0700
TZNAME:MST
END:STANDARD
END:VTIMEZONE
END:VCALENDAR