BEGIN:VCALENDAR
VERSION:2.0
PRODID:-//wp-events-plugin.com//7.2.3.1//EN
TZID:America/Denver
X-WR-TIMEZONE:America/Denver
BEGIN:VEVENT
UID:688@krystal93.com
DTSTART;TZID=America/Denver:20230822T100000
DTEND;TZID=America/Denver:20230822T120000
DTSTAMP:20230801T012109Z
URL:https://krystal93.com/events/mountain-biking-12-18-2/
SUMMARY:Mountain Biking (12-18)
DESCRIPTION:\n\n\n\n\n\n\n\n\n\nMOUNTAIN BIKING WITH THE CYCLE EFFECT AGES 
 12-18 Join the HYPE and The Cycle Effect for a fun and instructional day o
 n the single track! Participation limited to ages 12-18. Facilitated in En
 glish.\n\nTime: 10am-12pm Location: Frisco\n\nGo to Building Hope Summit C
 ounty for more information.\n\n\n\n\n\n\n\n\n\n
CATEGORIES:Building Hope Summit County
END:VEVENT
BEGIN:VTIMEZONE
TZID:America/Denver
X-LIC-LOCATION:America/Denver
BEGIN:DAYLIGHT
DTSTART:20230312T030000
TZOFFSETFROM:-0700
TZOFFSETTO:-0600
TZNAME:MDT
END:DAYLIGHT
END:VTIMEZONE
END:VCALENDAR