BEGIN:VCALENDAR
VERSION:2.0
PRODID:-//wp-events-plugin.com//7.2.3.1//EN
TZID:America/Denver
X-WR-TIMEZONE:America/Denver
BEGIN:VEVENT
UID:1691@krystal93.com
DTSTART;TZID=America/Denver:20250825T183000
DTEND;TZID=America/Denver:20250825T210000
DTSTAMP:20250804T205343Z
URL:https://krystal93.com/events/mountain-music-monday-michael-marcagi/
SUMMARY:Mountain Music Monday - Michael Marcagi
DESCRIPTION:Michael Marcagi\nWith special guest Rob Drabkin\n\n 	Date:08/25
 /2025 6:30 PM - 9:00 PM\n 	Location:Dillon Amphitheater\n135 W. Lodgepole 
 Street\nDillon\, Colorado 80435\n 	Introduction:Mountain Music Monday - 
 Free Concert! Benefitting Friends of the Dillon Ranger District\n
CATEGORIES:Dillon Amphitheater
END:VEVENT
BEGIN:VTIMEZONE
TZID:America/Denver
X-LIC-LOCATION:America/Denver
BEGIN:DAYLIGHT
DTSTART:20250309T030000
TZOFFSETFROM:-0700
TZOFFSETTO:-0600
TZNAME:MDT
END:DAYLIGHT
END:VTIMEZONE
END:VCALENDAR