BEGIN:VCALENDAR
VERSION:2.0
PRODID:-//wp-events-plugin.com//7.2.3.1//EN
TZID:America/Denver
X-WR-TIMEZONE:America/Denver
BEGIN:VEVENT
UID:1114@krystal93.com
DTSTART;TZID=America/Denver:20240826T183000
DTEND;TZID=America/Denver:20240826T220000
DTSTAMP:20240805T170319Z
URL:https://krystal93.com/events/mountain-music-mondays-circles-around-the
 -sun/
SUMMARY:Mountain Music Mondays - Circles Around the Sun
DESCRIPTION:\n\n\n\n&nbsp\;\n\n\n\n\n\n\nCircles Around The Sun\nWith speci
 al guest Joint Point\n\n 	Date:08/26/2024 6:30 PM - 10:00 PM\n 	Location:D
 illon Amphitheater\n135 W. Lodgepole Street\nDillon\, Colorado 80435\n 	
 Introduction:Free Mountain Music Monday Concert\n\nAdd to my Calendar\n\n\
 nAGES: All Ages DOORS: 5:30 p.m.SHOW: 6:30 p.m.FREE SHOW!\n\nLocal N
 on-Profit Beneficiary: Summit County Rescue Group\n\n\n\n\n\n
CATEGORIES:Dillon Amphitheater
END:VEVENT
BEGIN:VTIMEZONE
TZID:America/Denver
X-LIC-LOCATION:America/Denver
BEGIN:DAYLIGHT
DTSTART:20240310T030000
TZOFFSETFROM:-0700
TZOFFSETTO:-0600
TZNAME:MDT
END:DAYLIGHT
END:VTIMEZONE
END:VCALENDAR