BEGIN:VCALENDAR
VERSION:2.0
PRODID:-//wp-events-plugin.com//7.2.3.1//EN
TZID:America/Denver
X-WR-TIMEZONE:America/Denver
BEGIN:VEVENT
UID:1578@krystal93.com
DTSTART;TZID=America/Denver:20250703T183000
DTEND;TZID=America/Denver:20250703T203000
DTSTAMP:20250702T010527Z
URL:https://krystal93.com/events/mountain-music-mondays-colorado-jazz-repe
 rtory-orchestra/
SUMMARY:Special Concert - Colorado Jazz Repertory Orchestra
DESCRIPTION:Dillon Amphitheater\, 6:30pm -8:30pm\nColorado Jazz Repertory O
 rchestra  \n\nThe CJRO presents An Evening of American Music: Soul\, Jaz
 z\, and Blues.\nFeaturing vocalist Robert Benard Johnson.\n\nGet ready for
  a high-energy\, feel-good celebration of America's greatest music! You wi
 ll experience an evening that blends jazz standards\, blues classics\, sou
 lful hits\, and beloved American tunes - all with energy that celebrates o
 ur country's independence!\n\nCome ready to dance and feel the beat of Ame
 rica at its best! For more information including upcoming concerts\, go to
  Coloradojazz.org.\n\n 
END:VEVENT
BEGIN:VTIMEZONE
TZID:America/Denver
X-LIC-LOCATION:America/Denver
BEGIN:DAYLIGHT
DTSTART:20250309T030000
TZOFFSETFROM:-0700
TZOFFSETTO:-0600
TZNAME:MDT
END:DAYLIGHT
END:VTIMEZONE
END:VCALENDAR