BEGIN:VCALENDAR
VERSION:2.0
PRODID:-//wp-events-plugin.com//7.2.3.1//EN
TZID:America/Denver
X-WR-TIMEZONE:America/Denver
BEGIN:VEVENT
UID:1112@krystal93.com
DTSTART;TZID=America/Denver:20240819T183000
DTEND;TZID=America/Denver:20240819T220000
DTSTAMP:20240805T170217Z
URL:https://krystal93.com/events/mountain-music-mondays-couch-3/
SUMMARY:Mountain Music Mondays - Moontricks
DESCRIPTION:Moontricks\nWith special guest The Saeuce\n\n 	Date:08/19/2024 
 6:30 PM - 10:00 PM\n 	Location:Dillon Amphitheater\n135 W. Lodgepole Stree
 t\nDillon\, Colorado 80435\n 	Introduction:Free Mountain Music Monday Co
 ncert\n\nAdd to my Calendar\n\n\nAGES: All Ages DOORS: 5:30 p.m.SHOW: 
 6:30 p.m.FREE SHOW!\n\nLocal Non-Profit Beneficiary: High Country Conserv
 ation Center\n\n\n\n&nbsp\;\n\n\n\n
CATEGORIES:Dillon Amphitheater
END:VEVENT
BEGIN:VTIMEZONE
TZID:America/Denver
X-LIC-LOCATION:America/Denver
BEGIN:DAYLIGHT
DTSTART:20240310T030000
TZOFFSETFROM:-0700
TZOFFSETTO:-0600
TZNAME:MDT
END:DAYLIGHT
END:VTIMEZONE
END:VCALENDAR