BEGIN:VCALENDAR
VERSION:2.0
PRODID:-//wp-events-plugin.com//7.2.3.1//EN
TZID:America/Denver
X-WR-TIMEZONE:America/Denver
BEGIN:VEVENT
UID:1520@krystal93.com
DTSTART;TZID=America/Denver:20250623T183000
DTEND;TZID=America/Denver:20250623T210000
DTSTAMP:20250602T023221Z
URL:https://krystal93.com/events/mountain-music-mondays-drive-by-truckers/
SUMMARY:Mountain Music Mondays -Drive-By Truckers
DESCRIPTION:Drive-By Truckers and Deer Tick\n\n 	Date:06/23/2025 6:30 PM - 
 9:00 PM\n 	Location:Dillon Amphitheater\n135 W. Lodgepole Street\nDillon\,
  Colorado 80435\n 	Introduction:Kick off the Summer with our first free 
 show of the year!\n
CATEGORIES:Dillon Amphitheater
END:VEVENT
BEGIN:VTIMEZONE
TZID:America/Denver
X-LIC-LOCATION:America/Denver
BEGIN:DAYLIGHT
DTSTART:20250309T030000
TZOFFSETFROM:-0700
TZOFFSETTO:-0600
TZNAME:MDT
END:DAYLIGHT
END:VTIMEZONE
END:VCALENDAR