BEGIN:VCALENDAR
VERSION:2.0
PRODID:-//wp-events-plugin.com//7.2.3.1//EN
TZID:America/Denver
X-WR-TIMEZONE:America/Denver
BEGIN:VEVENT
UID:1008@krystal93.com
DTSTART;TZID=America/Denver:20240617T183000
DTEND;TZID=America/Denver:20240617T220000
DTSTAMP:20240531T231229Z
URL:https://krystal93.com/events/mountain-music-mondays-lulada-club/
SUMMARY:Mountain Music Mondays - Lulada Club
DESCRIPTION:Lulada Club\nWith special guest Los Bohemios\n\n 	Date:06/17/20
 24 6:30 PM - 10:00 PM\n 	Location:Dillon Amphitheater\n135 W. Lodgepole St
 reet\nDillon\, Colorado 80435\n 	Introduction:Join us for the first free
  concert of the summer!\n
CATEGORIES:Dillon Amphitheater
END:VEVENT
BEGIN:VTIMEZONE
TZID:America/Denver
X-LIC-LOCATION:America/Denver
BEGIN:DAYLIGHT
DTSTART:20240310T030000
TZOFFSETFROM:-0700
TZOFFSETTO:-0600
TZNAME:MDT
END:DAYLIGHT
END:VTIMEZONE
END:VCALENDAR