BEGIN:VCALENDAR
VERSION:2.0
PRODID:-//wp-events-plugin.com//7.2.3.1//EN
TZID:America/Denver
X-WR-TIMEZONE:America/Denver
BEGIN:VEVENT
UID:1010@krystal93.com
DTSTART;TZID=America/Denver:20240701T183000
DTEND;TZID=America/Denver:20240701T210000
DTSTAMP:20240531T231407Z
URL:https://krystal93.com/events/mountain-music-mondays-the-nro/
SUMMARY:Mountain Music Mondays - The NRO
DESCRIPTION:The National Repertory Orchestra\n\n 	Date:07/01/2024 6:30 PM -
  9:00 PM\n 	Location:Dillon Amphitheater\n135 W. Lodgepole Street\nDillon\
 , Colorado 80435\n 	Introduction:Free Mountain Music Monday Concert\n
CATEGORIES:Dillon Amphitheater
END:VEVENT
BEGIN:VTIMEZONE
TZID:America/Denver
X-LIC-LOCATION:America/Denver
BEGIN:DAYLIGHT
DTSTART:20240310T030000
TZOFFSETFROM:-0700
TZOFFSETTO:-0600
TZNAME:MDT
END:DAYLIGHT
END:VTIMEZONE
END:VCALENDAR