BEGIN:VCALENDAR
VERSION:2.0
PRODID:-//wp-events-plugin.com//7.2.3.1//EN
TZID:America/Denver
X-WR-TIMEZONE:America/Denver
BEGIN:VEVENT
UID:1430@krystal93.com
DTSTART;TZID=America/Denver:20250406T090000
DTEND;TZID=America/Denver:20250406T120000
DTSTAMP:20250331T141230Z
URL:https://krystal93.com/events/mountain-top-explorium-kicks-off-spring-s
 cholarship-campaign-pancake-breakfast-in-support-of-local-families/
SUMMARY:Mountain Top Explorium Kicks Off Spring Scholarship Campaign Pancak
 e Breakfast in Support of Local Families
DESCRIPTION:Mountain Top Explorium Kicks Off Spring Scholarship Campaign Pa
 ncake Breakfast in Support of Local Families\nLocal Non-Profit Partners wi
 th Alpine Bank to Double Impact for Kids in Community\n\nBreckendridge\, C
 olorado —March 27\, 2025—Through the generosity of Alpine Bank\, local
  nonprofit Mountain Top Explorium announces the kick-off to the 2nd Annual
  Spring Scholarship Campaign. For every dollar donated during the campaign
 \, Alpine Bank will match up to $7\,500\, raising $15\,000 for local schol
 arships.\n\nThe Mountain Top Explorium scholarship program provides all fa
 milies throughout Summit County with access to Mountain Top’s numerous s
 chool break programs\, including afterschool\, district school breaks\, an
 d summer camps.\n\n“At Mountain Top Explorium\, we are a community resou
 rce that nurtures connections between children and their world through exp
 loration\, creativity\, and relationships\, “ said Dave Miller\, Mountai
 n Top's Executive Director. “We want to thank Alpine Bank and The Silver
 thorne Elks Lodge for their generosity and partnership as these funds go d
 irectly to support working families here in Summit County.”\n\nThe Sprin
 g Campaign kicks off Sunday\, April 6\, with a Community Pancake Breakfast
 \, equal parts fundraiser and friend-raiser\, in partnership with the Silv
 erthorne Elks Lodge. All families are invited to enjoy a delicious breakfa
 st and kid-focused entertainment\, including arts and crafts and games\, a
 nd set this year’s Scholarship Campaign off in the right direction.\n\nW
 hen: Sunday\, April 6th\, 9 AM to 12 PM\nWhere: Elks Lodge\, 1321 Blue Riv
 er Parkway\, Silverthorne\nTickets:\nAdults: $20 in advance\, $22 at the d
 oor\nChildren (ages 5-12): $10 in advance\, $12 at the door\nChildren unde
 r 5: Free!\nPurchase Tickets here.\n\nCommunity focus groups have recently
  highlighted the need for affordable\, consistent\, and location-based chi
 ld care options throughout the County. Mountain Top Explorium aims to meet
  these needs through our programs and financial assistance. Rising costs f
 or housing\, food\, and other essentials underscore the importance of fund
 ing out-of-school time\, which enables working families to maintain consis
 tent working hours while ensuring their children are participating in enri
 ching childcare activities. For more details about our successes with thes
 e programs' relaunch in January\, please read the 2024 Fall Update.​\n\n
 “Whether you join us for breakfast at the Silverthorne Elks Lodge on the
  6th\, donate\, or help spread the word. Together\, we can allow every chi
 ld in our community to thrive\,” noted Miller.\n\nAbout Mountain Top Exp
 lorium\nAt Mountain Top Explorium\, we believe that children are the essen
 ce of the future. Who they are tomorrow is the outcome of how they are rai
 sed and nurtured today. We provide our youth with an empowering environmen
 t where they can fully embrace their identity and gain all the skills they
  need to be leaders tomorrow.\n\nMedia Contact:\nRobin Olsen\nHoney Commun
 ications\nrobin@honeycomms.co
CATEGORIES:Family Event
END:VEVENT
BEGIN:VTIMEZONE
TZID:America/Denver
X-LIC-LOCATION:America/Denver
BEGIN:DAYLIGHT
DTSTART:20250309T030000
TZOFFSETFROM:-0700
TZOFFSETTO:-0600
TZNAME:MDT
END:DAYLIGHT
END:VTIMEZONE
END:VCALENDAR