BEGIN:VCALENDAR
VERSION:2.0
PRODID:-//wp-events-plugin.com//7.2.3.1//EN
TZID:America/Denver
X-WR-TIMEZONE:America/Denver
BEGIN:VEVENT
UID:612@krystal93.com
DTSTART;TZID=America/Denver:20230624T150000
DTEND;TZID=America/Denver:20230624T170000
DTSTAMP:20230601T015949Z
URL:https://krystal93.com/events/movie-grateful-dead-meet-up-2/
SUMMARY:Movie: Grateful Dead Meet-Up
DESCRIPTION:June 22nd + 24th: Grateful Dead Meet-Up At The Movies  \n\nA 
 screening of a 1991 Grateful Dead concert in Chicago following the death o
 f their keyboardist. Featuring some of the band's biggest songs! \n\n7:00
 pm on June 22nd\n\n3:00pm on June 24th \n\nMore here: https://meetupatthe
 movies.com/  
END:VEVENT
BEGIN:VTIMEZONE
TZID:America/Denver
X-LIC-LOCATION:America/Denver
BEGIN:DAYLIGHT
DTSTART:20230312T030000
TZOFFSETFROM:-0700
TZOFFSETTO:-0600
TZNAME:MDT
END:DAYLIGHT
END:VTIMEZONE
END:VCALENDAR