BEGIN:VCALENDAR
VERSION:2.0
PRODID:-//wp-events-plugin.com//7.2.3.1//EN
TZID:America/Denver
X-WR-TIMEZONE:America/Denver
BEGIN:VEVENT
UID:596@krystal93.com
DTSTART;TZID=America/Denver:20230613T190000
DTEND;TZID=America/Denver:20230613T210000
DTSTAMP:20230601T000125Z
URL:https://krystal93.com/events/movie-little-richard-i-am-everything/
SUMMARY:Movie: Little Richard: I Am Everything
DESCRIPTION:Breck Film Society Screening \n\nWhat: Little Richard: I Am Ev
 erything \n\nWhere: The Eclipse Theater \n\nWhen: June 13 at 7pm \n\nDe
 tails: Come see this movie that celebrates the music and style of Little R
 ichard and looks at his impact on rock and pop music. Go to breckfilm-dot-
 org for more info and schedules.  
END:VEVENT
BEGIN:VTIMEZONE
TZID:America/Denver
X-LIC-LOCATION:America/Denver
BEGIN:DAYLIGHT
DTSTART:20230312T030000
TZOFFSETFROM:-0700
TZOFFSETTO:-0600
TZNAME:MDT
END:DAYLIGHT
END:VTIMEZONE
END:VCALENDAR