BEGIN:VCALENDAR
VERSION:2.0
PRODID:-//wp-events-plugin.com//7.2.3.1//EN
TZID:America/Denver
X-WR-TIMEZONE:America/Denver
BEGIN:VEVENT
UID:1165@krystal93.com
DTSTART;TZID=America/Denver:20240927T183000
DTEND;TZID=America/Denver:20240927T203000
DTSTAMP:20240829T221714Z
URL:https://krystal93.com/events/movie-night-12-18-2/
SUMMARY:Movie Night (12-18)
DESCRIPTION:FRIDAY\, SEPTEMBER 27\n6:30-8:30 pm\nMOVIE NIGHT\nDillon\nEnjoy
  a free night at the movies with\nyour friends! Summit County residents\na
 ges 12-18.\nEvent Facilitated in English\nGo to buildinghopesummit.org for
  more info and to sign up.
CATEGORIES:Building Hope Summit County
END:VEVENT
BEGIN:VTIMEZONE
TZID:America/Denver
X-LIC-LOCATION:America/Denver
BEGIN:DAYLIGHT
DTSTART:20240310T030000
TZOFFSETFROM:-0700
TZOFFSETTO:-0600
TZNAME:MDT
END:DAYLIGHT
END:VTIMEZONE
END:VCALENDAR