BEGIN:VCALENDAR
VERSION:2.0
PRODID:-//wp-events-plugin.com//7.2.3.1//EN
TZID:America/Denver
X-WR-TIMEZONE:America/Denver
BEGIN:VEVENT
UID:892@krystal93.com
DTSTART;TZID=America/Denver:20240329T183000
DTEND;TZID=America/Denver:20240329T203000
DTSTAMP:20240301T033633Z
URL:https://krystal93.com/events/movie-night-12-18/
SUMMARY:Movie Night (12-18)
DESCRIPTION:Got your popcorn? Enjoy a free night at the movies with your fr
 iends! Refreshments and snacks will be provided courtesy of the Youth Empo
 werment Society of Summit. Participation limited to ages 12-18. Facilitate
 d in English.\n\nTime: 6:30-8:30pm\n\nLocation: Dillon\nGo to Building Hop
 e Summit County for more information.
CATEGORIES:Building Hope Summit County
END:VEVENT
BEGIN:VTIMEZONE
TZID:America/Denver
X-LIC-LOCATION:America/Denver
BEGIN:DAYLIGHT
DTSTART:20240310T030000
TZOFFSETFROM:-0700
TZOFFSETTO:-0600
TZNAME:MDT
END:DAYLIGHT
END:VTIMEZONE
END:VCALENDAR