BEGIN:VCALENDAR
VERSION:2.0
PRODID:-//wp-events-plugin.com//7.2.3.1//EN
TZID:America/Denver
X-WR-TIMEZONE:America/Denver
BEGIN:VEVENT
UID:758@krystal93.com
DTSTART;TZID=America/Denver:20231117T183000
DTEND;TZID=America/Denver:20231117T203000
DTSTAMP:20231101T005049Z
URL:https://krystal93.com/events/movie-night-3/
SUMMARY:Movie Night
DESCRIPTION:\n\n\n\n\n\n\n\n\n\n\n\n\n\n\n\n\n\n\n\n\n\n\n\n\nMOVIE NIGHT W
 ITH YESS + UPRISE\n\nGot your popcorn? Enjoy a free night at the movies wi
 th your friends! Refreshments and snacks will be provided courtesy of the
  Youth Empowerment Society of Summit. Participation limited to ages 12-18.
  Facilitated in English.\n\nTime: 6:30-8:30pm Location: Dillon\n\n\n\n\n\n
 \n\n\n\n\n\n\n\n\n\n\n\n\n\n\n\n\n\n\n\nGo to buildinghopesummit.org for m
 ore information.\n\n&nbsp\;
CATEGORIES:Building Hope Summit County
END:VEVENT
BEGIN:VTIMEZONE
TZID:America/Denver
X-LIC-LOCATION:America/Denver
BEGIN:STANDARD
DTSTART:20231105T010000
TZOFFSETFROM:-0600
TZOFFSETTO:-0700
TZNAME:MST
END:STANDARD
END:VTIMEZONE
END:VCALENDAR