BEGIN:VCALENDAR
VERSION:2.0
PRODID:-//wp-events-plugin.com//7.2.3.1//EN
TZID:America/Denver
X-WR-TIMEZONE:America/Denver
BEGIN:VEVENT
UID:961@krystal93.com
DTSTART;TZID=America/Denver:20240426T183000
DTEND;TZID=America/Denver:20240426T203000
DTSTAMP:20240408T191358Z
URL:https://krystal93.com/events/movie-night-4/
SUMMARY:Movie Night
DESCRIPTION:MOVIE NIGHT WITH YESS + UPRISE\nGot your popcorn? Enjoy a free 
 night at the movies with your friends! Refreshments and snacks will be pro
 vided courtesy of the Youth Empowerment Society of Summit. Participation l
 imited to ages 12-18.\nTime: 6:30-8:30pm\n\nLocation: Dillon\n\nGo to Buil
 ding Hope Summit County to register.
CATEGORIES:Building Hope Summit County
END:VEVENT
BEGIN:VTIMEZONE
TZID:America/Denver
X-LIC-LOCATION:America/Denver
BEGIN:DAYLIGHT
DTSTART:20240310T030000
TZOFFSETFROM:-0700
TZOFFSETTO:-0600
TZNAME:MDT
END:DAYLIGHT
END:VTIMEZONE
END:VCALENDAR