BEGIN:VCALENDAR
VERSION:2.0
PRODID:-//wp-events-plugin.com//7.2.3.1//EN
TZID:America/Denver
X-WR-TIMEZONE:America/Denver
BEGIN:VEVENT
UID:708@krystal93.com
DTSTART;TZID=America/Denver:20230929T183000
DTEND;TZID=America/Denver:20230929T203000
DTSTAMP:20230831T040522Z
URL:https://krystal93.com/events/movie-night-with-yess/
SUMMARY:Movie Night with YESS
DESCRIPTION:\n\n\n\n\n\n\n\n\n\nMOVIE NIGHT WITH YESS + UPRISE\n\nGot your 
 popcorn? Enjoy a free night at the movies with your friends! Refreshments 
 and snacks will be provided courtesy of the Youth Empowerment Society of S
 ummit. Participation limited to Summit County Residents ages 12-18. Facili
 tated in English.\n\nTime: 6:30-8:30pm\n\nLocation: Dillon\n\nGo to Buildi
 ng Hope Summit County for more information.\n\n\n\n\n\n\n\n\n\n
CATEGORIES:Building Hope Summit County
END:VEVENT
BEGIN:VTIMEZONE
TZID:America/Denver
X-LIC-LOCATION:America/Denver
BEGIN:DAYLIGHT
DTSTART:20230312T030000
TZOFFSETFROM:-0700
TZOFFSETTO:-0600
TZNAME:MDT
END:DAYLIGHT
END:VTIMEZONE
END:VCALENDAR