BEGIN:VCALENDAR
VERSION:2.0
PRODID:-//wp-events-plugin.com//7.2.3.1//EN
TZID:America/Denver
X-WR-TIMEZONE:America/Denver
BEGIN:VEVENT
UID:523@krystal93.com
DTSTART;TZID=America/Denver:20230428T183000
DTEND;TZID=America/Denver:20230428T203000
DTSTAMP:20230330T154235Z
URL:https://krystal93.com/events/movie-night/
SUMMARY:Movie Night
DESCRIPTION:MOVIE NIGHT WITH YESS + UPRISE \n\nGot your popcorn? Enjoy a f
 ree night at the movies with your friends! Refreshments will be provided c
 ourtesy of the Youth Empowerment Society of Summit. Participation limited 
 to Summit County Residents ages 12-18. Facilitated in English. \n\nTime: 
 6:30-8:30pm Location: Dillon\n \n\nwww.buildinghopesummit.org/events \n\
 n&nbsp\;
CATEGORIES:Building Hope Summit County
END:VEVENT
BEGIN:VTIMEZONE
TZID:America/Denver
X-LIC-LOCATION:America/Denver
BEGIN:DAYLIGHT
DTSTART:20230312T030000
TZOFFSETFROM:-0700
TZOFFSETTO:-0600
TZNAME:MDT
END:DAYLIGHT
END:VTIMEZONE
END:VCALENDAR