BEGIN:VCALENDAR
VERSION:2.0
PRODID:-//wp-events-plugin.com//7.2.3.1//EN
TZID:America/Denver
X-WR-TIMEZONE:America/Denver
BEGIN:VEVENT
UID:725@krystal93.com
DTSTART;TZID=America/Denver:20230911T180000
DTEND;TZID=America/Denver:20230911T220000
DTSTAMP:20230831T043530Z
URL:https://krystal93.com/events/mtn-music-monday-2/
SUMMARY:Mtn Music Monday
DESCRIPTION:Lespecial With special guest Frisco Funk Collective \n\nAGES:
  All Ages DOORS: 6 p.m. SHOW: 7 p.m.\n\nFREE SHOW\n\nlespecial is red
 efining the term “power trio”. The three multi-instrumentals from Conn
 ecticut continue to command attention from music critics and fans alike th
 rough their national tours highlighted by fierce musicianship\, creative s
 howmanship and an engaging live show that leaves audiences exhilarated and
  hungry for more. lespecial’s signature blend of “heavy future groove
 ” combines head banging heavy prog-rock riffage with bone rattling 808s 
 and sub synths\, taking listeners on a journey to the musical netherworld 
 through esoteric soundscapes punctuated by raw\, primal energy/power. The 
 band’s latest album\, “Ancient Homies”\, released to critical acclai
 m on Ropeadope Records at the end of 2020\, finds them at a new sonic leve
 l and at the apex of potential for a band that has played together since h
 igh school and continues to push the boundaries of what a trio can do both
  in a live setting and in the studio.
CATEGORIES:Dillon Amphitheater
END:VEVENT
BEGIN:VTIMEZONE
TZID:America/Denver
X-LIC-LOCATION:America/Denver
BEGIN:DAYLIGHT
DTSTART:20230312T030000
TZOFFSETFROM:-0700
TZOFFSETTO:-0600
TZNAME:MDT
END:DAYLIGHT
END:VTIMEZONE
END:VCALENDAR