BEGIN:VCALENDAR
VERSION:2.0
PRODID:-//wp-events-plugin.com//7.2.3.1//EN
TZID:America/Denver
X-WR-TIMEZONE:America/Denver
BEGIN:VEVENT
UID:724@krystal93.com
DTSTART;TZID=America/Denver:20230904T180000
DTEND;TZID=America/Denver:20230904T220000
DTSTAMP:20230831T043323Z
URL:https://krystal93.com/events/mtn-music-monday/
SUMMARY:Mtn Music Monday
DESCRIPTION:Moon Taxi With special guest Clare Elich\n\nAGES: All Ages DO
 ORS: 6 p.m. SHOW: 7 p.m.\n\nFREE SHOW\n\nOnce again ready to push the 
 boundaries of their genre\, Nashville based indie alt-rock band Moon Taxi 
 is back with their sixth full length album\, Set Yourself Free. With track
 s ranging from rock to synth to pop to bluegrass\, the new lineup showcase
 s what 15 years as a band gets you: a polished\, classic sound without fea
 r of exploration. The five-member group- vocalist/guitarist Trevor Terndru
 p\, lead guitarist Spencer Thomson\, bassist Tommy Putnam\, keyboardist We
 s Bailey\, and drummer Tyler Ritter- stepped back into their roots to crea
 te an album primarily written and recorded by themselves and set for relea
 se on their own label\, 12th South Records.
END:VEVENT
BEGIN:VTIMEZONE
TZID:America/Denver
X-LIC-LOCATION:America/Denver
BEGIN:DAYLIGHT
DTSTART:20230312T030000
TZOFFSETFROM:-0700
TZOFFSETTO:-0600
TZNAME:MDT
END:DAYLIGHT
END:VTIMEZONE
END:VCALENDAR