BEGIN:VCALENDAR
VERSION:2.0
PRODID:-//wp-events-plugin.com//7.2.3.1//EN
TZID:America/Denver
X-WR-TIMEZONE:America/Denver
BEGIN:VEVENT
UID:1580@krystal93.com
DTSTART;TZID=America/Denver:20250714T183000
DTEND;TZID=America/Denver:20250714T220000
DTSTAMP:20250702T011110Z
URL:https://krystal93.com/events/mtn-music-mondays-lotus/
SUMMARY:Mtn Music Mondays - LOTUS
DESCRIPTION:Lotus\nwith special guest Float Like A Buffalo\n\n 	Date:07/14/
 2025 6:30 PM - 10:00 PM\n 	Location:Dillon Amphitheater\n135 W. Lodgepole 
 Street\nDillon\, Colorado 80435\n 	Introduction:Mountain Music Monday - 
 Free Concert!\n\nLotus \n\nLotus\, innovators in blending electronic danc
 e music with the jam band model of improvisation\, have captivated audienc
 es with their high-energy\, dance-inducing shows and intrepid studio work.
  Drawing from genres such as psychedelic rock\, krautrock\, post-rock\, di
 sco\, and funk\, the four-piece band is known for their festival-favorite 
 performances and intriguing songwriting\, which seamlessly transitions fro
 m high-flying guitar solos to modular synth workouts\, combining tightly c
 omposed songs with free ranging group improvisation.
END:VEVENT
BEGIN:VTIMEZONE
TZID:America/Denver
X-LIC-LOCATION:America/Denver
BEGIN:DAYLIGHT
DTSTART:20250309T030000
TZOFFSETFROM:-0700
TZOFFSETTO:-0600
TZNAME:MDT
END:DAYLIGHT
END:VTIMEZONE
END:VCALENDAR