BEGIN:VCALENDAR
VERSION:2.0
PRODID:-//wp-events-plugin.com//7.2.3.1//EN
TZID:America/Denver
X-WR-TIMEZONE:America/Denver
BEGIN:VEVENT
UID:1579@krystal93.com
DTSTART;TZID=America/Denver:20250707T180000
DTEND;TZID=America/Denver:20250707T200000
DTSTAMP:20250702T010651Z
URL:https://krystal93.com/events/mtn-music-mondays-national-repertory-orch
 estra/
SUMMARY:Mtn Music Mondays - National Repertory Orchestra
DESCRIPTION:National Repertory Orchestra\n\n 	Date:07/07/2025 6:00 PM - 8:0
 0 PM\n 	Location:Dillon Amphitheater\n135 W. Lodgepole Street\nDillon\, C
 olorado 80435\n 	Introduction:Mountain Music Monday - Free Concert!\n\n U
 nder the leadership of Music Director Michael Stern\, the National Reperto
 ry Orchestra (NRO) is a 501(c)(3) non-profit organization and a preeminent
  intensive fellowship that develops diverse\, thoughtful and socially cons
 cious musicians through experiential learning. The NRO inspires young prof
 essional musicians to be great leaders in their communities while Changing
  Lives Through Music!
END:VEVENT
BEGIN:VTIMEZONE
TZID:America/Denver
X-LIC-LOCATION:America/Denver
BEGIN:DAYLIGHT
DTSTART:20250309T030000
TZOFFSETFROM:-0700
TZOFFSETTO:-0600
TZNAME:MDT
END:DAYLIGHT
END:VTIMEZONE
END:VCALENDAR