BEGIN:VCALENDAR
VERSION:2.0
PRODID:-//wp-events-plugin.com//7.2.3.1//EN
TZID:America/Denver
X-WR-TIMEZONE:America/Denver
BEGIN:VEVENT
UID:1581@krystal93.com
DTSTART;TZID=America/Denver:20250721T183000
DTEND;TZID=America/Denver:20250721T210000
DTSTAMP:20250702T010903Z
URL:https://krystal93.com/events/mtn-music-mondays-the-nacho-men/
SUMMARY:Mtn Music Mondays - The Nacho Men
DESCRIPTION:The Nacho Men\nwith special guest Split Window\n\n 	Date:07/21/
 2025 6:30 PM - 9:00 PM\n 	Location:Dillon Amphitheater\n135 W. Lodgepole S
 treet\nDillon\, Colorado 80435\n 	Introduction:Mountain Music Monday - F
 ree Concert!\n\nFor over 40 years\, The Nacho Men have been a Colorado Fav
 orite!! Using their special blend of dance music\, costume changes\, chore
 ography\, and side-splitting humor\, the audience is guaranteed to have a 
 wonderful night to remember. The Nacho Men keep all generations of fans co
 ming back for their high energy interactive rock and roll show year after 
 year. The band has entertained audiences from coast to coast and worldwide
  and has been the opening act for Little Richard\, The Temptations\, The P
 ointer Sisters\, Chuck Berry\, The Doobie Brothers\, The Coasters and many
  more.
CATEGORIES:Dillon Amphitheater
END:VEVENT
BEGIN:VTIMEZONE
TZID:America/Denver
X-LIC-LOCATION:America/Denver
BEGIN:DAYLIGHT
DTSTART:20250309T030000
TZOFFSETFROM:-0700
TZOFFSETTO:-0600
TZNAME:MDT
END:DAYLIGHT
END:VTIMEZONE
END:VCALENDAR