BEGIN:VCALENDAR
VERSION:2.0
PRODID:-//wp-events-plugin.com//7.2.3.1//EN
TZID:America/Denver
X-WR-TIMEZONE:America/Denver
BEGIN:VEVENT
UID:1748@krystal93.com
DTSTART;TZID=America/Denver:20251121T163000
DTEND;TZID=America/Denver:20251121T183000
DTSTAMP:20251103T091918Z
URL:https://krystal93.com/events/muddy-buddies-ceramics-12-18/
SUMMARY:Muddy Buddies: Ceramics 12-18
DESCRIPTION:FRIDAY\, NOVEMBER 21\, 2025\n\nMuddy Buddies: Ceramics for Teen
 s | Ages 12-18\n\n4:30 pm - 6:30 pm / Breckenridge\n\nJoin the HYPE for a 
 hands-on adventure where you can shape\, create\, and let your imagination
  run wild in a supportive environment. Working with clay is not only super
  fun\, but it also calms the mind and boosts creativity. This event is int
 ended for Summit County residents only. Ages 12-18. Event Facilitated in E
 nglish.
CATEGORIES:Building Hope Summit County
END:VEVENT
BEGIN:VTIMEZONE
TZID:America/Denver
X-LIC-LOCATION:America/Denver
BEGIN:STANDARD
DTSTART:20251102T010000
TZOFFSETFROM:-0600
TZOFFSETTO:-0700
TZNAME:MST
END:STANDARD
END:VTIMEZONE
END:VCALENDAR