BEGIN:VCALENDAR
VERSION:2.0
PRODID:-//wp-events-plugin.com//7.2.3.1//EN
TZID:America/Denver
X-WR-TIMEZONE:America/Denver
BEGIN:VEVENT
UID:1776@krystal93.com
DTSTART;TZID=America/Denver:20260106T190000
DTEND;TZID=America/Denver:20260106T201500
DTSTAMP:20260102T024140Z
URL:https://krystal93.com/events/new-year-journaling/
SUMMARY:New Year Journaling
DESCRIPTION:Start your New Year journaling for clarity! Join author Lisa B
 lake and Building Hope Summit County on Tuesday January 6 in Frisco for a 
 relaxed evening of meditation\, writing and connection. It’s from 7 to
  8:15pm again on Tuesday\, January 6.  Go to BuildingHopeSummit.org to s
 ign up.
CATEGORIES:Building Hope Summit County
END:VEVENT
BEGIN:VTIMEZONE
TZID:America/Denver
X-LIC-LOCATION:America/Denver
BEGIN:STANDARD
DTSTART:20251102T010000
TZOFFSETFROM:-0600
TZOFFSETTO:-0700
TZNAME:MST
END:STANDARD
END:VTIMEZONE
END:VCALENDAR