BEGIN:VCALENDAR
VERSION:2.0
PRODID:-//wp-events-plugin.com//7.2.3.1//EN
TZID:America/Denver
X-WR-TIMEZONE:America/Denver
BEGIN:VEVENT
UID:622@krystal93.com
DTSTART;TZID=America/Denver:20230601T183000
DTEND;TZID=America/Denver:20230601T220000
DTSTAMP:20230601T021729Z
URL:https://krystal93.com/events/nuggets-watch-party-ac-hotel-frisco/
SUMMARY:Nuggets Watch Party -AC Hotel Frisco
DESCRIPTION:What: Nuggets Watch Party\n\nWhere: AC Hotel Frisco by Marriott
 \n\nWhen: Game time! 6:30pm - 10:00pm\n\nDetails: Your Denver Nuggets play
  their first NBA finals game against the Miami Heat TONIGHT! Krystal 93 is
  partnering with the renovated AC Hotel Frisco by Marriott\, for Nuggets w
 atch parties during this final series! Go to the updated lounge for happy 
 hour food and two-for-one drinks… AND Krystal 93 will be there with GREA
 T concert ticket giveaways! At each game we'll be giving away great ticket
 s--- Umphrey’s McGee\, Dead and Company\, Noah Kahan\, and more. Krystal
  93 is at the AC Hotel Frisco\, for Nuggets watch parties. 
END:VEVENT
BEGIN:VTIMEZONE
TZID:America/Denver
X-LIC-LOCATION:America/Denver
BEGIN:DAYLIGHT
DTSTART:20230312T030000
TZOFFSETFROM:-0700
TZOFFSETTO:-0600
TZNAME:MDT
END:DAYLIGHT
END:VTIMEZONE
END:VCALENDAR