BEGIN:VCALENDAR
VERSION:2.0
PRODID:-//wp-events-plugin.com//7.2.3.1//EN
TZID:America/Denver
X-WR-TIMEZONE:America/Denver
BEGIN:VEVENT
UID:1028@krystal93.com
DTSTART;TZID=America/Denver:20240621T190000
DTEND;TZID=America/Denver:20240621T220000
DTSTAMP:20240602T183005Z
URL:https://krystal93.com/events/old-crow-medicine-show-dillon-amp/
SUMMARY:Old Crow Medicine Show - Dillon Amp
DESCRIPTION:Old Crow Medicine Show\nWith Molly Tuttle &amp\; Golden Highway
 \n\n 	Date:06/21/2024 7:00 PM - 10:00 PM\n 	Location:Dillon Amphitheater\n
 135 W. Lodgepole Street\nDillon\, Colorado 80435\n 	Introduction:Tickets
  on sale now!\n\nAdd to my Calendar
CATEGORIES:Dillon Amphitheater
END:VEVENT
BEGIN:VTIMEZONE
TZID:America/Denver
X-LIC-LOCATION:America/Denver
BEGIN:DAYLIGHT
DTSTART:20240310T030000
TZOFFSETFROM:-0700
TZOFFSETTO:-0600
TZNAME:MDT
END:DAYLIGHT
END:VTIMEZONE
END:VCALENDAR