BEGIN:VCALENDAR
VERSION:2.0
PRODID:-//wp-events-plugin.com//7.2.3.1//EN
TZID:America/Denver
X-WR-TIMEZONE:America/Denver
BEGIN:VEVENT
UID:962@krystal93.com
DTSTART;TZID=America/Denver:20240430T180000
DTEND;TZID=America/Denver:20240430T193000
DTSTAMP:20240408T191511Z
URL:https://krystal93.com/events/parent-connection-night/
SUMMARY:Parent Connection Night
DESCRIPTION:PARENT CONNECTION NIGHT AT MOUNTAIN TOP EXPLORIUM\nIn partnersh
 ip with Mountain Top Explorium -connect with other local parents while you
 r kids have fun at the Explorium! Dinner will be provided.\nTime: 6-7:30pm
 \n\nLocation: Breckenridge\n\nGo to Building Hope Summit County to registe
 r.
CATEGORIES:Building Hope Summit County
END:VEVENT
BEGIN:VTIMEZONE
TZID:America/Denver
X-LIC-LOCATION:America/Denver
BEGIN:DAYLIGHT
DTSTART:20240310T030000
TZOFFSETFROM:-0700
TZOFFSETTO:-0600
TZNAME:MDT
END:DAYLIGHT
END:VTIMEZONE
END:VCALENDAR