BEGIN:VCALENDAR
VERSION:2.0
PRODID:-//wp-events-plugin.com//7.2.3.1//EN
TZID:America/Denver
X-WR-TIMEZONE:America/Denver
BEGIN:VEVENT
UID:1850@krystal93.com
DTSTART;TZID=America/Denver:20260306T180000
DTEND;TZID=America/Denver:20260306T210000
DTSTAMP:20260304T013903Z
URL:https://krystal93.com/events/party-for-the-planet-2/
SUMMARY:Party for the Planet
DESCRIPTION:Join High Country Conservation Center Friday\, March 6\, for Pa
 rty for the Planet\, HC3’s biggest fundraiser of the year. It’s at K
 eystone Conference Center from 6 to 9pm. Your ticket includes local craft 
 brews\, live music and a buffet dinner\, plus a large silent auction. 
  It’s also an opportunity to honor community heroes. Proceeds will s
 upport conservation efforts and climate action in Summit County. Tickets o
 n sale now at HighCountryConservation.org.  
CATEGORIES:Fundraiser
END:VEVENT
BEGIN:VTIMEZONE
TZID:America/Denver
X-LIC-LOCATION:America/Denver
BEGIN:STANDARD
DTSTART:20251102T010000
TZOFFSETFROM:-0600
TZOFFSETTO:-0700
TZNAME:MST
END:STANDARD
END:VTIMEZONE
END:VCALENDAR