BEGIN:VCALENDAR
VERSION:2.0
PRODID:-//wp-events-plugin.com//7.2.3.1//EN
TZID:America/Denver
X-WR-TIMEZONE:America/Denver
BEGIN:VEVENT
UID:67@krystal93.com
DTSTART;TZID=America/Denver:20220210T190000
DTEND;TZID=America/Denver:20220210T220000
DTSTAMP:20220201T163821Z
URL:https://krystal93.com/events/paul-frost/
SUMMARY:Paul Frost
DESCRIPTION:Come enjoy loads of music from Petty to Paul Simon &amp\; Pusci
 fer to Pink Floyd\; Paul plays it ALL! At Bakers Brewery in Silverthorne\
 , starting at 7pm.
CATEGORIES:Bakers Brewery Events
END:VEVENT
BEGIN:VTIMEZONE
TZID:America/Denver
X-LIC-LOCATION:America/Denver
BEGIN:STANDARD
DTSTART:20211107T010000
TZOFFSETFROM:-0600
TZOFFSETTO:-0700
TZNAME:MST
END:STANDARD
END:VTIMEZONE
END:VCALENDAR