BEGIN:VCALENDAR
VERSION:2.0
PRODID:-//wp-events-plugin.com//7.2.3.1//EN
TZID:America/Denver
X-WR-TIMEZONE:America/Denver
BEGIN:VEVENT
UID:734@krystal93.com
DTSTART;TZID=America/Denver:20231016T173000
DTEND;TZID=America/Denver:20231019T193000
DTSTAMP:20231002T150519Z
URL:https://krystal93.com/events/peer-support-training/
SUMMARY:Peer Support Training
DESCRIPTION:PEER SUPPORT PROGRAM TRAINING Our Peer Support Program assists 
 local community members in dealing with\n their struggles by offering an o
 pen ear. Complete this training to volunteer for our Peer Support Program!
  Facilitated in English.  \n\nTime: 5:30-7:30pm Location: Virtual  \n\nG
 o to buildinghopesummit.org for more details.
CATEGORIES:Building Hope Summit County
END:VEVENT
BEGIN:VTIMEZONE
TZID:America/Denver
X-LIC-LOCATION:America/Denver
BEGIN:DAYLIGHT
DTSTART:20230312T030000
TZOFFSETFROM:-0700
TZOFFSETTO:-0600
TZNAME:MDT
END:DAYLIGHT
END:VTIMEZONE
END:VCALENDAR