BEGIN:VCALENDAR
VERSION:2.0
PRODID:-//wp-events-plugin.com//7.2.3.1//EN
TZID:America/Denver
X-WR-TIMEZONE:America/Denver
BEGIN:VEVENT
UID:547@krystal93.com
DTSTART;TZID=America/Denver:20230503T183000
DTEND;TZID=America/Denver:20230503T193000
DTSTAMP:20230430T224825Z
URL:https://krystal93.com/events/pfx-class/
SUMMARY:PFX Class
DESCRIPTION:5/3 PFX CLASS POWERED BY PSYFI \n\nExperience a revolutionary 
 group fitness class that combines Psychology and Neuroscience training wit
 h a HIIT workout\, breathwork\, and meditation. Participation limited to 1
 8+. www.buildinghopesummit.org/events Facilitated in English. \n\nTime: 6
 :30-7:30pm Location: Silverthorne  \n\nwww.buildinghopesummit.org/events
  \n\n&nbsp\;
CATEGORIES:Building Hope Summit County
END:VEVENT
BEGIN:VTIMEZONE
TZID:America/Denver
X-LIC-LOCATION:America/Denver
BEGIN:DAYLIGHT
DTSTART:20230312T030000
TZOFFSETFROM:-0700
TZOFFSETTO:-0600
TZNAME:MDT
END:DAYLIGHT
END:VTIMEZONE
END:VCALENDAR