BEGIN:VCALENDAR
VERSION:2.0
PRODID:-//wp-events-plugin.com//7.2.3.1//EN
TZID:America/Denver
X-WR-TIMEZONE:America/Denver
BEGIN:VEVENT
UID:1741@krystal93.com
DTSTART;TZID=America/Denver:20251104T180000
DTEND;TZID=America/Denver:20251104T190000
DTSTAMP:20251103T090033Z
URL:https://krystal93.com/events/pfx-fitness/
SUMMARY:PFX Fitness
DESCRIPTION:TUESDAY\, NOVEMBER 4\, 2025\n\nPFX: A Psychology-Fitness Experi
 ence powered by PSYFI\n\n6:00 pm- 7:00 pm / Silverthorne\n\nA revolutionar
 y group fitness class that combines psychology and neuroscience training w
 ith a HIIT workout\, breathwork\, and meditation. This event is intended f
 or Summit County residents only. Event Facilitated in English.
CATEGORIES:Building Hope Summit County
END:VEVENT
BEGIN:VTIMEZONE
TZID:America/Denver
X-LIC-LOCATION:America/Denver
BEGIN:STANDARD
DTSTART:20251102T010000
TZOFFSETFROM:-0600
TZOFFSETTO:-0700
TZNAME:MST
END:STANDARD
END:VTIMEZONE
END:VCALENDAR