BEGIN:VCALENDAR
VERSION:2.0
PRODID:-//wp-events-plugin.com//7.2.3.1//EN
TZID:America/Denver
X-WR-TIMEZONE:America/Denver
BEGIN:VEVENT
UID:1810@krystal93.com
DTSTART;TZID=America/Denver:20260203T183000
DTEND;TZID=America/Denver:20260203T193000
DTSTAMP:20260203T030509Z
URL:https://krystal93.com/events/pfx-psychology-fitness-experience-3/
SUMMARY:PFX - Psychology Fitness Experience
DESCRIPTION:TUESDAY\, FEBRUARY 3\, 2026\nPFX: A Psychology-Fitness Experien
 ce\n6:30 pm - 7:30 pm / Silverthorne\nA revolutionary group fitness class 
 that combines psychology and neuroscience training with a HIIT workout\, b
 reathwork\, and meditation.\nGo to buildinghopesummit.org to sign up and f
 or more details.
CATEGORIES:Building Hope Summit County
END:VEVENT
BEGIN:VTIMEZONE
TZID:America/Denver
X-LIC-LOCATION:America/Denver
BEGIN:STANDARD
DTSTART:20251102T010000
TZOFFSETFROM:-0600
TZOFFSETTO:-0700
TZNAME:MST
END:STANDARD
END:VTIMEZONE
END:VCALENDAR