BEGIN:VCALENDAR
VERSION:2.0
PRODID:-//wp-events-plugin.com//7.2.3.1//EN
TZID:America/Denver
X-WR-TIMEZONE:America/Denver
BEGIN:VEVENT
UID:1160@krystal93.com
DTSTART;TZID=America/Denver:20240909T183000
DTEND;TZID=America/Denver:20240909T193000
DTSTAMP:20240829T221203Z
URL:https://krystal93.com/events/pfx-psychology-fitness-experience/
SUMMARY:PFX - Psychology Fitness Experience
DESCRIPTION:MONDAY\, SEPTEMBER 9\n6:30-7:30 pm\nPFX- A PSYCHOLOGY-FITNESS E
 XPERIENCE\nSilverthorne\nA revolutionary group fitness class that combines
  psychology and neuroscience training with a HIIT workout\, breathwork\, a
 nd meditation.\nEvent Facilitated in English\nGo to buildinghopesummit.org
  for more info and to sign up.
CATEGORIES:Building Hope Summit County
END:VEVENT
BEGIN:VTIMEZONE
TZID:America/Denver
X-LIC-LOCATION:America/Denver
BEGIN:DAYLIGHT
DTSTART:20240310T030000
TZOFFSETFROM:-0700
TZOFFSETTO:-0600
TZNAME:MDT
END:DAYLIGHT
END:VTIMEZONE
END:VCALENDAR