BEGIN:VCALENDAR
VERSION:2.0
PRODID:-//wp-events-plugin.com//7.2.3.1//EN
TZID:America/Denver
X-WR-TIMEZONE:America/Denver
BEGIN:VEVENT
UID:618@krystal93.com
DTSTART;TZID=America/Denver:20230619T120000
DTEND;TZID=America/Denver:20230619T140000
DTSTAMP:20230601T022832Z
URL:https://krystal93.com/events/pickleball-12-18-2/
SUMMARY:Pickleball (12-18)
DESCRIPTION:PICKLEBALL AGES 12-18 \n\nJoin The HYPE at the Silverthorne Rec
  Center and play Pickleball with your friends! Participation limited to ag
 es 12-18. Facilitated in English. \n\nTime: 12-2pm \n\nLocation: Silvertho
 rne \n\nGo to Building Hope Summit County for more information.  
CATEGORIES:Building Hope Summit County
END:VEVENT
BEGIN:VTIMEZONE
TZID:America/Denver
X-LIC-LOCATION:America/Denver
BEGIN:DAYLIGHT
DTSTART:20230312T030000
TZOFFSETFROM:-0700
TZOFFSETTO:-0600
TZNAME:MDT
END:DAYLIGHT
END:VTIMEZONE
END:VCALENDAR