BEGIN:VCALENDAR
VERSION:2.0
PRODID:-//wp-events-plugin.com//7.2.3.1//EN
TZID:America/Denver
X-WR-TIMEZONE:America/Denver
BEGIN:VEVENT
UID:1512@krystal93.com
DTSTART;TZID=America/Denver:20250607T100000
DTEND;TZID=America/Denver:20250607T180000
DTSTAMP:20250602T022128Z
URL:https://krystal93.com/events/pikes-peak-gem-mineral-jewelry-show/
SUMMARY:Pikes Peak Gem\, Mineral &amp\; Jewelry Show
DESCRIPTION:Explore a dazzling array of gems\, minerals\, fossils\, and uni
 que hand-crafted jewelry pieces. Discover stunning pieces from talented ar
 tisans and vendors\, learn about the fascinating worlds of minerals\, foss
 ils\, jewelry making\, and rockhounding\, and find the perfect piece to ad
 d to your collection! Young prospectors will enjoy gold panning\, explorin
 g\, learning through a scavenger hunt\, and connecting with our Pebble Pup
 s group. Beading and wire wrapping classes will be offered throughout the 
 weekend\, and a presentation\, Rockhounding in the Pike’s Peak Region\,
  by one of our experienced rockhounds\, on Saturday. For details and to si
 gn up for classes visit our website.
CATEGORIES:Family Event
LOCATION:Norris Penrose Event Center\, 1045 Lower Gold Camp Rd\, Colorado S
 prings\, CO\, 80905\, United States
X-APPLE-STRUCTURED-LOCATION;VALUE=URI;X-ADDRESS=1045 Lower Gold Camp Rd\, C
 olorado Springs\, CO\, 80905\, United States;X-APPLE-RADIUS=100;X-TITLE=No
 rris Penrose Event Center:geo:0,0
END:VEVENT
BEGIN:VTIMEZONE
TZID:America/Denver
X-LIC-LOCATION:America/Denver
BEGIN:DAYLIGHT
DTSTART:20250309T030000
TZOFFSETFROM:-0700
TZOFFSETTO:-0600
TZNAME:MDT
END:DAYLIGHT
END:VTIMEZONE
END:VCALENDAR