BEGIN:VCALENDAR
VERSION:2.0
PRODID:-//wp-events-plugin.com//7.2.3.1//EN
TZID:America/Denver
X-WR-TIMEZONE:America/Denver
BEGIN:VEVENT
UID:1030@krystal93.com
DTSTART;TZID=America/Denver:20240711T190000
DTEND;TZID=America/Denver:20240711T220000
DTSTAMP:20240602T183204Z
URL:https://krystal93.com/events/portugal-the-man-dillon-amp/
SUMMARY:Portugal. the Man - Dillon Amp
DESCRIPTION:\n\n\n\n\n\n\nPortugal. The Man\nWith special guests Tegan and 
 Sara\n\n 	Date:07/11/2024 6:30 PM - 10:00 PM\n 	Location:Dillon Amphitheat
 er\n135 W. Lodgepole Street\nDillon\, Colorado 80435\n 	Introduction:Tic
 kets on sale now!\n\n\n
CATEGORIES:Dillon Amphitheater
END:VEVENT
BEGIN:VTIMEZONE
TZID:America/Denver
X-LIC-LOCATION:America/Denver
BEGIN:DAYLIGHT
DTSTART:20240310T030000
TZOFFSETFROM:-0700
TZOFFSETTO:-0600
TZNAME:MDT
END:DAYLIGHT
END:VTIMEZONE
END:VCALENDAR