BEGIN:VCALENDAR
VERSION:2.0
PRODID:-//wp-events-plugin.com//7.2.3.1//EN
TZID:America/Denver
X-WR-TIMEZONE:America/Denver
BEGIN:VEVENT
UID:1492@krystal93.com
DTSTART;TZID=America/Denver:20250517T190000
DTEND;TZID=America/Denver:20250517T220000
DTSTAMP:20250501T233423Z
URL:https://krystal93.com/events/prom-on-the-run/
SUMMARY:Prom on the Run
DESCRIPTION:2nd Annual Prom on the Run benefiting Girls on the Run of Weste
 rn Colorado \n\nSaturday\, May 17th\, 2025\, 7pm-10pm \n\n10 Mile Music 
 Hall\, Frisco \n\n$50 general admission \n\n21+ event \n\nTheme:  Thro
 wback (80s\, 90s &amp\; beyond!) \n\nGrab your date or gather your best g
 al pals and get ready for a night of fun!  Lace up your favorite sneakers
  - whether they're high-tops or running shoes- and pair them with your bes
 t dress or sharpest suit.  Hit the dance floor for an unforgettable eveni
 ng of music\, drinks\, and dessert as we come together to celebrate Girls 
 on the Run. \n\nProm attire is optional\, but encouraged! 
CATEGORIES:Fundraiser
END:VEVENT
BEGIN:VTIMEZONE
TZID:America/Denver
X-LIC-LOCATION:America/Denver
BEGIN:DAYLIGHT
DTSTART:20250309T030000
TZOFFSETFROM:-0700
TZOFFSETTO:-0600
TZNAME:MDT
END:DAYLIGHT
END:VTIMEZONE
END:VCALENDAR