BEGIN:VCALENDAR
VERSION:2.0
PRODID:-//wp-events-plugin.com//7.2.3.1//EN
TZID:America/Denver
X-WR-TIMEZONE:America/Denver
BEGIN:VEVENT
UID:1219@krystal93.com
DTSTART;TZID=America/Denver:20241006T110000
DTEND;TZID=America/Denver:20241006T140000
DTSTAMP:20241004T161858Z
URL:https://krystal93.com/events/pumpkin-fest-silverthorne/
SUMMARY:Pumpkin Fest - Silverthorne
DESCRIPTION:Silverthorne’s Pumpkinfest is Sunday\, October 6 from 11am to
  2pm at Rainbow Park. There’ll be more than 2500 FREE pumpkins\, free ki
 ds' activities\, train rides\, bounce houses and more. Plus\, The Salida C
 ircus will be back with a Spooky Circus show. The Silverthorne Pumpkinfest
  – this Sunday\, October 6. Find out more details at Silverthorne.org. 
  
CATEGORIES:Town of Silverthorne
END:VEVENT
BEGIN:VTIMEZONE
TZID:America/Denver
X-LIC-LOCATION:America/Denver
BEGIN:DAYLIGHT
DTSTART:20240310T030000
TZOFFSETFROM:-0700
TZOFFSETTO:-0600
TZNAME:MDT
END:DAYLIGHT
END:VTIMEZONE
END:VCALENDAR