BEGIN:VCALENDAR
VERSION:2.0
PRODID:-//wp-events-plugin.com//7.2.3.1//EN
TZID:America/Denver
X-WR-TIMEZONE:America/Denver
BEGIN:VEVENT
UID:516@krystal93.com
DTSTART;TZID=America/Denver:20230401T090000
DTEND;TZID=America/Denver:20230401T130000
DTSTAMP:20230330T153410Z
URL:https://krystal93.com/events/pysanky/
SUMMARY:Pysanky
DESCRIPTION:PYSANKY \n\nJoin us at Breck Create and learn the centuries ol
 d art form of Pysanky also known as Ukrainian egg decoration.  Facilitate
 d in English. \n\nTime: 9am-1pm Location: Breckenridge \n\nwww.buildingh
 opesummit.org/events \n\n&nbsp\;
CATEGORIES:Building Hope Summit County
END:VEVENT
BEGIN:VTIMEZONE
TZID:America/Denver
X-LIC-LOCATION:America/Denver
BEGIN:DAYLIGHT
DTSTART:20230312T030000
TZOFFSETFROM:-0700
TZOFFSETTO:-0600
TZNAME:MDT
END:DAYLIGHT
END:VTIMEZONE
END:VCALENDAR