BEGIN:VCALENDAR
VERSION:2.0
PRODID:-//wp-events-plugin.com//7.2.3.1//EN
TZID:America/Denver
X-WR-TIMEZONE:America/Denver
BEGIN:VEVENT
UID:550@krystal93.com
DTSTART;TZID=America/Denver:20230509T180000
DTEND;TZID=America/Denver:20230509T193000
DTSTAMP:20230430T225106Z
URL:https://krystal93.com/events/qpr-training/
SUMMARY:QPR Training
DESCRIPTION:5/9 QPR TRAINING \n\nQuestion\, Persuade\, and Refer \n\n(QPR
 ) is 3 simple yet powerful steps anyone can learn to help save a life from
  suicide. Just as people trained in CPR help save thousands of lives each 
 year\, people trained in QPR (learn how to recognize the warning signs\nof
  a suicide crisis\, how to offer hope and how to get help and save a life.
  www.buildinghopesummit.org/events Facilitated in English. \n\nTime: 6-7:
 30pm Location: Frisco \n\nwww.buildinghopesummit.org/events \n\n&nbsp\;
CATEGORIES:Building Hope Summit County
END:VEVENT
BEGIN:VTIMEZONE
TZID:America/Denver
X-LIC-LOCATION:America/Denver
BEGIN:DAYLIGHT
DTSTART:20230312T030000
TZOFFSETFROM:-0700
TZOFFSETTO:-0600
TZNAME:MDT
END:DAYLIGHT
END:VTIMEZONE
END:VCALENDAR