BEGIN:VCALENDAR
VERSION:2.0
PRODID:-//wp-events-plugin.com//7.2.3.1//EN
TZID:America/Denver
X-WR-TIMEZONE:America/Denver
BEGIN:VEVENT
UID:1308@krystal93.com
DTSTART;TZID=America/Denver:20241207T153000
DTEND;TZID=America/Denver:20241207T173000
DTSTAMP:20241201T221220Z
URL:https://krystal93.com/events/race-of-the-santas/
SUMMARY:Race of the Santas
DESCRIPTION:Start the winter festivities in Breckenridge by lacing up your 
 running shoes for the RACE OF THE SANTAS! The race kicks off on Main Str
 eet directly in front of the Canteen Tap House (208 N. Main Street) and
  finishes in Blue River Plaza just in time for the Lighting of Breckenrid
 ge.\n\nThe first 700 registrants receive a commemorative socks with regist
 ration. The first 150 youth registrants for the Moose March receive a moos
 e beanie with registration. Races are not age-restricted -- please select 
 Race of the Santas (running) or Moose March (walking/kids) when registerin
 g.\n\nRace of the Santas is a fundraiser for Carriage House Early Learnin
 g Center! A portion of the proceeds goes to support Carriage House\, Brec
 kenridge’s oldest childcare facility.\n\nCarriage House is dedicated to 
 fostering intellectual\, social/emotional and physical development in a hi
 gh-quality early childhood setting\; building meaningful relationships wit
 h families and our community\, honoring childhood\, and inspiring lifelong
  learners that have a sense of global responsibility.\nSchedule of Events\
 n\n 	Holiday Dog Parade - 3:30pm\n 	Moose March - 4:00pm\n 	Race of the Sa
 ntas - 4:20pm\n 	Race awards - 4:40pm\n 	Santa Arrives - 4:45pm\n 	Countdo
 wn to Tree Lighting with Santa Claus - 5:00pm\n
CATEGORIES:Family Event
END:VEVENT
BEGIN:VTIMEZONE
TZID:America/Denver
X-LIC-LOCATION:America/Denver
BEGIN:STANDARD
DTSTART:20241103T010000
TZOFFSETFROM:-0600
TZOFFSETTO:-0700
TZNAME:MST
END:STANDARD
END:VTIMEZONE
END:VCALENDAR