BEGIN:VCALENDAR
VERSION:2.0
PRODID:-//wp-events-plugin.com//7.2.3.1//EN
TZID:America/Denver
X-WR-TIMEZONE:America/Denver
BEGIN:VEVENT
UID:1001@krystal93.com
DTSTART;TZID=America/Denver:20240604T180000
DTEND;TZID=America/Denver:20240604T200000
DTSTAMP:20240523T011406Z
URL:https://krystal93.com/events/reintroduction-of-wolverines-in-colorado/
SUMMARY:Reintroduction of Wolverines in Colorado
DESCRIPTION:Wolverines are going to be reintroduced into the Colorado envir
 onment. Planning is underway to achieve that goal. What's involved? What d
 oes it mean for you? What is the timeline for reintroduction? Join Friends
  of the Lower Blue River for an evening conversation with Dan Gibbs\, the 
 Executive Director of the Colorado Department of Natural Resources. Get th
 e answers to these questions and more from the source.\n\nThe event will b
 e at the Silverthorne Pavilion on Tuesday\, June 4th from 6:00 to 8:00pm. 
 A cash bar for beer and wine will be available. Admission is free\, but do
 nations to Friends of the Lower Blue River are always welcome and accepted
 .
CATEGORIES:Fundraiser
LOCATION:Silverthorne Pavilion\, 400 Blue River Parkway\, Silverthorne\, CO
 \, 80498\, Summit\, United States
X-APPLE-STRUCTURED-LOCATION;VALUE=URI;X-ADDRESS=400 Blue River Parkway\, Si
 lverthorne\, CO\, 80498\, Summit\, United States;X-APPLE-RADIUS=100;X-TITL
 E=Silverthorne Pavilion:geo:0,0
END:VEVENT
BEGIN:VTIMEZONE
TZID:America/Denver
X-LIC-LOCATION:America/Denver
BEGIN:DAYLIGHT
DTSTART:20240310T030000
TZOFFSETFROM:-0700
TZOFFSETTO:-0600
TZNAME:MDT
END:DAYLIGHT
END:VTIMEZONE
END:VCALENDAR