BEGIN:VCALENDAR
VERSION:2.0
PRODID:-//wp-events-plugin.com//7.2.3.1//EN
TZID:America/Denver
X-WR-TIMEZONE:America/Denver
BEGIN:VEVENT
UID:1024@krystal93.com
DTSTART;TZID=America/Denver:20240606T160000
DTEND;TZID=America/Denver:20240606T200000
DTSTAMP:20240531T235238Z
URL:https://krystal93.com/events/rock-the-dock-frisco/
SUMMARY:Rock the Dock - Frisco
DESCRIPTION:Come Rock the Dock at the Frisco Bay Marina with a free concert
 ! The first one of the summer is Thursday\, June 6. At 4:15 it’s Vincent
  Antone\, a wonderful multi-instrumentalist... and then at 6:15 it’s Sun
 Squabi\, a trio described as an electric hydro funk experience. Along with
  live music there’ll be fun lawn games... it all happens at the Frisco B
 ay Marina Lighthouse Lawn on June 6.   
END:VEVENT
BEGIN:VTIMEZONE
TZID:America/Denver
X-LIC-LOCATION:America/Denver
BEGIN:DAYLIGHT
DTSTART:20240310T030000
TZOFFSETFROM:-0700
TZOFFSETTO:-0600
TZNAME:MDT
END:DAYLIGHT
END:VTIMEZONE
END:VCALENDAR