BEGIN:VCALENDAR
VERSION:2.0
PRODID:-//wp-events-plugin.com//7.2.3.1//EN
TZID:America/Denver
X-WR-TIMEZONE:America/Denver
BEGIN:VEVENT
UID:911@krystal93.com
DTSTART;TZID=America/Denver:20240316T183000
DTEND;TZID=America/Denver:20240316T233000
DTSTAMP:20240301T040628Z
URL:https://krystal93.com/events/rocky-mountain-country-fest-2/
SUMMARY:Rocky Mountain Country Fest
DESCRIPTION:Warren Station and 93.1 Summit Country present the Rocky Mounta
 in Country Fest\, Saturday March 16 in Keystone. Enjoy an exclusive Brush 
 Creek Whiskey tasting experience plus the “Summit County Dance Chicks”
  will be onsite to help brush up your two-step. Then music starts up with 
 the Powell Brothers followed by headliner Kevin Daniel and the Bottom Line
 . You can find tickets at warrenstation.com. Krystal Media Supports the Su
 mmit.  
END:VEVENT
BEGIN:VTIMEZONE
TZID:America/Denver
X-LIC-LOCATION:America/Denver
BEGIN:DAYLIGHT
DTSTART:20240310T030000
TZOFFSETFROM:-0700
TZOFFSETTO:-0600
TZNAME:MDT
END:DAYLIGHT
END:VTIMEZONE
END:VCALENDAR