BEGIN:VCALENDAR
VERSION:2.0
PRODID:-//wp-events-plugin.com//7.2.3.1//EN
TZID:America/Denver
X-WR-TIMEZONE:America/Denver
BEGIN:VEVENT
UID:1253@krystal93.com
DTSTART;TZID=America/Denver:20241201T090000
DTEND;TZID=America/Denver:20241201T150000
DTSTAMP:20241201T201508Z
URL:https://krystal93.com/events/rocky-mountain-train-show-holiday-edition
 -2024/
SUMMARY:Rocky Mountain Train Show - Holiday Edition 2024
DESCRIPTION:All Aboard!\nThe Rocky Mountain Train Show will be steaming int
 o Loveland\, CO\, November 30th and Dec 1st\, 2024.\nThe Rocky Mountain Tr
 ain Show is family fun for everyone.\nFor the family\, it is fun for every
 one. The show is appropriate for all ages.  There will be Story Time\, Tr
 ains that kids can run\, *Face Painting\, and more than 12 operating layou
 ts.\nBe sure to bring a camera and take a picture with Santa!\nBoy Scouts 
 can earn the Railroad Merit Badge. Remember\, be prepared!\nChildren 5 yea
 rs old and older can earn the Junior Engineering Certificate (Free)!\nFor 
 the hobbyist\, it is an ‘all scales’ show. There will be more than 60 
 vendors including Choo Choo are US\, Rock House Station\, Model Train Solu
 tions and Usborne Books. They will be selling trains in scales ranging fro
 m N to G.\nAdmission: Adults $10 Children 12 and under and Boy Scouts in U
 niform get free admission Veterans\, Active-Duty Personnel and First Respo
 nders can get discount tickets through VetTix\nTimes:\nSaturday 9:00 AM to
  5:00 PM\nSunday 9:00 AM to 3:00 PM
CATEGORIES:Family Event
END:VEVENT
BEGIN:VTIMEZONE
TZID:America/Denver
X-LIC-LOCATION:America/Denver
BEGIN:STANDARD
DTSTART:20241103T010000
TZOFFSETFROM:-0600
TZOFFSETTO:-0700
TZNAME:MST
END:STANDARD
END:VTIMEZONE
END:VCALENDAR