BEGIN:VCALENDAR
VERSION:2.0
PRODID:-//wp-events-plugin.com//7.2.3.1//EN
TZID:America/Denver
X-WR-TIMEZONE:America/Denver
BEGIN:VEVENT
UID:799@krystal93.com
DTSTART;TZID=America/Denver:20231223T210000
DTEND;TZID=America/Denver:20231223T233000
DTSTAMP:20231214T005700Z
URL:https://krystal93.com/events/rocky-mtn-rock-out-at-the-underground/
SUMMARY:Rocky Mtn Rock Out at The Underground
DESCRIPTION:Check out live music at the Underground next to Elevation Bowl 
 in Dillon with the Rocky Mountain Rock Out Holiday Party. It's a holiday p
 unk rock party with the Kobra Thighs\, Discolored Perception\, and Sputni
 k Slovenia. $10 cover. It’s 21 and over. Info at theundergrounddillon.co
 m. 
END:VEVENT
BEGIN:VTIMEZONE
TZID:America/Denver
X-LIC-LOCATION:America/Denver
BEGIN:STANDARD
DTSTART:20231105T010000
TZOFFSETFROM:-0600
TZOFFSETTO:-0700
TZNAME:MST
END:STANDARD
END:VTIMEZONE
END:VCALENDAR