BEGIN:VCALENDAR
VERSION:2.0
PRODID:-//wp-events-plugin.com//7.2.3.1//EN
TZID:America/Denver
X-WR-TIMEZONE:America/Denver
BEGIN:VEVENT
UID:621@krystal93.com
DTSTART;TZID=America/Denver:20230624T093000
DTEND;TZID=America/Denver:20230624T153000
DTSTAMP:20230601T023151Z
URL:https://krystal93.com/events/ropes-course-12-18/
SUMMARY:Ropes Course (12-18)
DESCRIPTION:ROPES COURSE WITH BOEC AGES 12-18 \n\nTake on the high ropes co
 urse at BOEC in this exciting confidence building experience! Participatio
 n limited to ages 12-18. Facilitated in English. \n\nTime: 9:30am-12:00pm 
 / 1pm-3:30pm \n\nLocation: Breckenridge \n\nGo to Building Hope Summit Cou
 nty for more information.  
CATEGORIES:Building Hope Summit County
END:VEVENT
BEGIN:VTIMEZONE
TZID:America/Denver
X-LIC-LOCATION:America/Denver
BEGIN:DAYLIGHT
DTSTART:20230312T030000
TZOFFSETFROM:-0700
TZOFFSETTO:-0600
TZNAME:MDT
END:DAYLIGHT
END:VTIMEZONE
END:VCALENDAR