BEGIN:VCALENDAR
VERSION:2.0
PRODID:-//wp-events-plugin.com//7.2.3.1//EN
TZID:America/Denver
X-WR-TIMEZONE:America/Denver
BEGIN:VEVENT
UID:1331@krystal93.com
DTSTART;TZID=America/Denver:20250122T173000
DTEND;TZID=America/Denver:20250122T193000
DTSTAMP:20250102T151038Z
URL:https://krystal93.com/events/safety-plan-open-house/
SUMMARY:Safety Plan Open House
DESCRIPTION:\n 	 Project Name: Summit County Transportation Safety Plan\n 	
  Date: January 22\, 2025\n 	 Time: 5:30pm-7pm \n 	 Event Purpose: to info
 rm county members of the project and hear their roadway safety concerns to
  help pinpoint roadway improvement projects \n 	 Audience for Advertising
 : all county members with an emphasis on those negatively impacted by curr
 ent road conditions (e.g.\, traffic\, accidents\, injuries\, lack of pedes
 trian or bike paths\, etc.)\n\nIf you're interested in reading more about 
 the project\, see this info link. \n\n 
END:VEVENT
BEGIN:VTIMEZONE
TZID:America/Denver
X-LIC-LOCATION:America/Denver
BEGIN:STANDARD
DTSTART:20241103T010000
TZOFFSETFROM:-0600
TZOFFSETTO:-0700
TZNAME:MST
END:STANDARD
END:VTIMEZONE
END:VCALENDAR